BEGIN:VCALENDAR
VERSION:2.0
PRODID:-//Tukios.com/
BEGIN:VEVENT
UID:a4b3d517-29c2-450f-b0bb-14f13e660510@www.doughtyfuneralhome.com
DTSTAMP:20260422T233445Z
DTSTART:20260424T150000Z
DTEND:20260424T160000Z
SUMMARY:Funeral Service
DESCRIPTION:
URL:https://www.doughtyfuneralhome.com/obituaries/emily-carpenter
LOCATION:Exmore Baptist Church 11624 Occohannock Road  Exmore VA 23350
GEO:37.5329933;-75.8238433
END:VEVENT
END:VCALENDAR