BEGIN:VCALENDAR
VERSION:2.0
PRODID:-//Tukios.com/
BEGIN:VEVENT
UID:814d0c9c-da74-4591-97b4-6bb20ae8e421@www.doughtyfuneralhome.com
DTSTAMP:20260422T233410Z
DTSTART:20260424T140000Z
DTEND:20260424T150000Z
SUMMARY:Visitation
DESCRIPTION:
URL:https://www.doughtyfuneralhome.com/obituaries/emily-carpenter
LOCATION:Exmore Baptist Church 11624 Occohannock Road  Exmore VA 23350
GEO:37.5329933;-75.8238433
END:VEVENT
END:VCALENDAR