BEGIN:VCALENDAR
VERSION:2.0
PRODID:-//Tukios.com/
BEGIN:VEVENT
UID:775d9a94-0c70-4456-b14e-2bd9305a1bc7@www.doughtyfuneralhome.com
DTSTAMP:20260422T233613Z
DTSTART:20260424
SUMMARY:Interment
DESCRIPTION:
URL:https://www.doughtyfuneralhome.com/obituaries/emily-carpenter
LOCATION: 9202 Seaside Road  Marionville VA 23408
GEO:37.4518485;-75.8562323
END:VEVENT
END:VCALENDAR