BEGIN:VCALENDAR
VERSION:2.0
PRODID:-//Tukios.com/
BEGIN:VEVENT
UID:e07d2e09-f6db-4c05-b540-79c77324a209@www.doughtyfuneralhome.com
DTSTAMP:20260420T221557Z
DTSTART:20260426T180000Z
DTEND:20260426T190000Z
SUMMARY:Funeral Service
DESCRIPTION:
URL:https://www.doughtyfuneralhome.com/obituaries/francis-lewis
LOCATION:Cape Charles Cemetery  3229 Old Cape Charles Road  Cape Charles 
	VA 23310
GEO:37.2684333;-75.9835372
END:VEVENT
END:VCALENDAR