BEGIN:VCALENDAR
VERSION:2.0
PRODID:-//Tukios.com/
BEGIN:VEVENT
UID:44b2539d-6536-4898-bb0b-6c82ae3d48e1@www.doughtyfuneralhome.com
DTSTAMP:20260421T005221Z
DTSTART:20260607T180000Z
DTEND:20260607T220000Z
SUMMARY:Celebration of Life
DESCRIPTION:
URL:https://www.doughtyfuneralhome.com/obituaries/wayne-parker
LOCATION:American Legion Northampton Post 56 20210 North Bayside Road  
	Cape Charles VA 23310
GEO:37.2929988;-75.9733877
END:VEVENT
END:VCALENDAR